BEGIN:VCALENDAR
VERSION:2.0
CALSCALE:GREGORIAN
BEGIN:VEVENT
SUMMARY:Yoga Under The Open Sky - NATURE  / CONNECTION / VINYASA - Hollow Ponds
DTSTART;TZID=Europe/London:20250628T091500
DTEND;TZID=Europe/London:20250628T103000
LOCATION:Hollow Ponds
DESCRIPTION: Join us in nature_ Hollow Ponds

Practical stuff_ 

- Bring your own yoga mat
- water / coconut or refreshment

----


And the location: 

To find the session use What Three Words - from the App Store... This is the what3words address to help you find this specific location. Tap to see exactly where it is:

///stars.shady.ground

https://w3w.co/stars.shady.ground


A warming practice with a long slow build up into more powerful postures, to bring confidence into the body and mindset. You can expect rhythmic and expressive movements for opening the body and playful ways through your vinyasa to get you feeling good, and just enough heat to give you a little afterglow as you start your weekend.
STATUS:CONFIRMED
SEQUENCE:0
END:VEVENT
END:VCALENDAR