BEGIN:VCALENDAR
VERSION:2.0
CALSCALE:GREGORIAN
BEGIN:VEVENT
SUMMARY:A Spontaneous happening Classical Tantra &amp; Gong Bath with Apres Yoga Cinema: THE WIZARD OF PINK FLOYD
DTSTART;TZID=Europe/London:20240924T190000
DTEND;TZID=Europe/London:20240924T222200
LOCATION:Heathcote &amp; Star, 344 Grove Green Road
DESCRIPTION: Join use this evening for another spontaneous happening, a gathering to honour synchronicity with Sabina for Classical Tantra and Gong Bath with apres-yoga cinema The Wizard of Pink Floyd. 

After your Tantra and Gong Bath - relax into the surreal world of Pink Floyd, Dark Side of the Moon, which was famously set to Wizard of Oz. 

The cinema will start at 8:22pm exactly.... and finish before 10pm... Dream of the yellow brick road...

Pay as you wish, do what you like and bring who you want... or indeed do what you want and bring who you like.

Feel free to bring something to share, or not... 

Classical Tantra &amp;amp; Gong Bath starts at 7pm 
Film Starts at 8:22pm
_

Classical Tantra refers to the practices founded in the peak period of the Tantrik movement (800-1100 CE). These sessions, with Sabina Bhandari are designed to give you an experiential orientation to the vast system that is Classical Tantra, exploring movement, visualisation and the energetics of the body through one of the most ancient lineages of raja yoga.

Each month will be themed, giving you the opportunity to explore practices in consecutive sessions, so that you will begin to be able to weave your Tantric teachings into your daily yoga practice.

Sabina in joining Yoga in the Stars alternate Tuesday evenings sharing classical tantra as well as a gong bath for savasana, as part of our series Yoga and Sound. 

Alternating Tuesdays with Basia Zieniewicz / David (Bifmode) and Alex (Frequency Diagnostics) Yin Nidra &amp;amp; Sound | Gongs / Singing Bowls / Synths &amp;amp; Trance: A Collaboration.  

Consider booking a series of Tuesday evenings, to experience weekly sound baths and discover how your experience evolves. 

Book in advance to avoid disappointment.

Book in advance to avoid disappointment.
STATUS:CONFIRMED
SEQUENCE:0
END:VEVENT
END:VCALENDAR