BEGIN:VCALENDAR
VERSION:2.0
CALSCALE:GREGORIAN
BEGIN:VEVENT
SUMMARY:Yin &amp; Crystal Sound Bowls
DTSTART;TZID=Europe/London:20250422T190000
DTEND;TZID=Europe/London:20250422T203000
LOCATION:Heathcote &amp; Star, 344 Grove Green Road
DESCRIPTION: Join us for an evening of deep stretch and relaxation through the practice of Yin Yoga, the long held, often restorative postures that give us a chance to deeply let go of tensions so often habitually held. 

During the session you will be guided though your body, using proprioceptive cues and to relax the mind Rakesh will accompany the postures with soothing crystal bowls. 

Bring warm comfy clothes and feel free to bring chai tea into the session with you.
STATUS:CONFIRMED
SEQUENCE:0
END:VEVENT
END:VCALENDAR