BEGIN:VCALENDAR
VERSION:2.0
CALSCALE:GREGORIAN
BEGIN:VEVENT
SUMMARY:Body Conditioning
DTSTART;TZID=Europe/London:20250529T120000
DTEND;TZID=Europe/London:20250529T130000
LOCATION:Heathcote &amp; Star, 344 Grove Green Road
DESCRIPTION: A session to get your blood pumping and muscles firing with powerful movements ranging from isometric strength to plyometric power. Big heart powerful lungs. Designed to make you sweat, shake and burn, and kick start your metabolism to the max.
STATUS:CONFIRMED
SEQUENCE:0
END:VEVENT
END:VCALENDAR