BEGIN:VCALENDAR
VERSION:2.0
CALSCALE:GREGORIAN
BEGIN:VEVENT
SUMMARY:NEW! Psychosynthesis &amp; Psychedelic Breathwork
DTSTART;TZID=Europe/London:20241020T180500
DTEND;TZID=Europe/London:20241020T200000
LOCATION:Heathcote &amp; Star, 344 Grove Green Road
DESCRIPTION: This is an opportunity to explore your inner self in a supportive and intentional space. While this offering is in its experimental stages, we believe in the potential of these practices to foster deep self-awareness and inner integration. If you are open to exploring, reflecting, and evolving alongside us, we welcome you to join this journey.

Note: Due to the experimental nature of this workshop, your feedback will be an invaluable part of our continued evolution of this offering.

And, yes, there will be a sharing circle. Expect to embrace your vulnerability, be a compassionate witness and be witnessed. 

Psychosynthesis is a holistic psychological approach that aims to integrate various aspects of the self, including emotions, thoughts, and higher spiritual potential, to create a more unified and authentic sense of self.

Psychedelic Breathwork is a hyperventilating modality influenced by what may be more widely known as Conscious-Connected breathwork and informed by learnings from Grof (or Holotropic) Breathwork. This will be about 30-40 minutes of intensive breathwork. 

***Important Contraindications***
For safety reasons, this workshop is not recommended for individuals with any of the following conditions:

• Severe mental health conditions, such as untreated PTSD, schizophrenia, or psychosis
• Cardiovascular problems (e.g., high blood pressure, recent heart conditions, or aneurysms)
• Epilepsy or a history of seizures
• Glacauma 
• Recent major surgeries or physical injuries
• Pregnancy or up to 16 weeks postpartum
• Those under the influence of drugs or alcohol

If you have any of these conditions or are unsure, please consult with your healthcare provider or contact us directly to discuss your participation.
STATUS:CONFIRMED
SEQUENCE:0
END:VEVENT
END:VCALENDAR