BEGIN:VCALENDAR
VERSION:2.0
CALSCALE:GREGORIAN
BEGIN:VEVENT
SUMMARY:Apres-yoga Movement &amp; Coffee Morning_ exploration session with Lyndon &amp; Tarin / Free / pay as you wish welcome
DTSTART;TZID=Europe/London:20241123T110000
DTEND;TZID=Europe/London:20241123T120000
LOCATION:Heathcote &amp; Star, 344 Grove Green Road
DESCRIPTION: Stay after yoga for a fluid exploration of movement, creative pathways, floor-work, rhythm and expression. 

The music will be loud and there will be no yoga mats...
STATUS:CONFIRMED
SEQUENCE:0
END:VEVENT
END:VCALENDAR