BEGIN:VCALENDAR
VERSION:2.0
CALSCALE:GREGORIAN
BEGIN:VEVENT
SUMMARY:Body MOT &amp; Spirit Tech Health Screening With Jesse
DTSTART;TZID=Europe/London:20250522T131500
DTEND;TZID=Europe/London:20250522T170000
LOCATION:Heathcote &amp; Star, 344 Grove Green Road
DESCRIPTION: Spirit Tech Health Screening &amp;amp; Body MOT With Fænix Coaching

A one-to-one fully comprehensive MOT session with Jess of Fænix Coaching.

Perfect for anyone who is;

- Experiencing pain
- Experiencing health or energy challenges
- Looking to get a holistic health &amp;amp; body check &amp;amp; tune up!

In this session you will receive a full biomechanical assessment to identify the root causation of any pain or postural issues followed by a myofascial bodywork treatment to iron out the kinks leaving you feeling strong, empowered &amp;amp; pain free in body &amp;amp; mind!

You will also receive a bioelectrical impedance Spirit Tech health screening to identify the root causations of any health issues you may be facing - Jess will test you for organ health status, food intolerances, allergies, hormone levels, vitamin &amp;amp; mineral deficiencies &amp;amp; many more metrics empowering you with comprehensive &amp;amp; actionable health information &amp;amp; guidance for any challenges you may be facing.

Check in &amp;amp; tune up today! :)

Message Jesse on 07376124981 for more information.
STATUS:CONFIRMED
SEQUENCE:0
END:VEVENT
END:VCALENDAR