BEGIN:VCALENDAR
VERSION:2.0
CALSCALE:GREGORIAN
BEGIN:VEVENT
SUMMARY:Integral
DTSTART;TZID=Europe/London:20250613T113000
DTEND;TZID=Europe/London:20250613T123000
LOCATION:Heathcote &amp; Star, 344 Grove Green Road
DESCRIPTION: The session includes the practices of asana (yoga postures), pranayama (breathing exercises), and meditation to develop physical and mental stillness. The goal of Integral yoga is to become aware of and to integrate the physical, mental and spiritual aspects of ourselves
STATUS:CONFIRMED
SEQUENCE:0
END:VEVENT
END:VCALENDAR