BEGIN:VCALENDAR
VERSION:2.0
CALSCALE:GREGORIAN
BEGIN:VEVENT
SUMMARY:START 2 YOGA
DTSTART;TZID=Europe/Brussels:20240919T113500
DTEND;TZID=Europe/Brussels:20240919T123500
LOCATION:YOGALA HAASRODE
DESCRIPTION: https://yogala.be/start-2-yoga/index
STATUS:CONFIRMED
SEQUENCE:0
END:VEVENT
END:VCALENDAR