BEGIN:VCALENDAR
VERSION:2.0
CALSCALE:GREGORIAN
BEGIN:VEVENT
SUMMARY:Yoga
DTSTART;TZID=Europe/Amsterdam:20161205T091500
DTEND;TZID=Europe/Amsterdam:20161205T103000
LOCATION:Yoga Langedijk
DESCRIPTION: Maandagochtend 9.15u
STATUS:CONFIRMED
SEQUENCE:0
END:VEVENT
END:VCALENDAR