BEGIN:VCALENDAR
VERSION:2.0
CALSCALE:GREGORIAN
BEGIN:VEVENT
SUMMARY:Slow Yoga: kerstles
DTSTART;TZID=Europe/Amsterdam:20161212T110000
DTEND;TZID=Europe/Amsterdam:20161212T121500
LOCATION:Yoga Langedijk
DESCRIPTION: Maandagochtend 11.00u
STATUS:CONFIRMED
SEQUENCE:0
END:VEVENT
END:VCALENDAR