BEGIN:VCALENDAR
VERSION:2.0
CALSCALE:GREGORIAN
BEGIN:VEVENT
SUMMARY:Yoga: kerstles
DTSTART;TZID=Europe/Amsterdam:20161212T191500
DTEND;TZID=Europe/Amsterdam:20161212T203000
LOCATION:Yoga Langedijk
DESCRIPTION: Maandagavond 19.15u
STATUS:CONFIRMED
SEQUENCE:0
END:VEVENT
END:VCALENDAR