BEGIN:VCALENDAR
VERSION:2.0
CALSCALE:GREGORIAN
BEGIN:VEVENT
SUMMARY:Slow Yoga: buiten? Zie omschrijving.
DTSTART;TZID=Europe/Amsterdam:20170529T110000
DTEND;TZID=Europe/Amsterdam:20170529T121500
LOCATION:Yoga Langedijk
DESCRIPTION: Maandagochtend: 11.00-12.15u. Voor iedereen toegankelijk!

De les is buiten indien niet te heet.
STATUS:CONFIRMED
SEQUENCE:0
END:VEVENT
END:VCALENDAR