BEGIN:VCALENDAR
VERSION:2.0
CALSCALE:GREGORIAN
BEGIN:VEVENT
SUMMARY:Yoga is buiten: Zie omschrijving les
DTSTART;TZID=Europe/Amsterdam:20170522T133000
DTEND;TZID=Europe/Amsterdam:20170522T144500
LOCATION:Yoga Langedijk
DESCRIPTION: Maandagmiddag 13.30-14.45u
De les is buiten in de tuin, neem een handdoek/laken mee.
STATUS:CONFIRMED
SEQUENCE:0
END:VEVENT
END:VCALENDAR