BEGIN:VCALENDAR
VERSION:2.0
CALSCALE:GREGORIAN
BEGIN:VEVENT
SUMMARY:Yoga: buiten?? Zie omschrijving
DTSTART;TZID=Europe/Amsterdam:20170614T203000
DTEND;TZID=Europe/Amsterdam:20170614T214500
LOCATION:Yoga Langedijk
DESCRIPTION: Woensdagavond: 20.30-21.45u
Buiten indien warm genoeg.
STATUS:CONFIRMED
SEQUENCE:0
END:VEVENT
END:VCALENDAR