BEGIN:VCALENDAR
VERSION:2.0
CALSCALE:GREGORIAN
BEGIN:VEVENT
SUMMARY:Hatha Yoga: let op 18.25u!
DTSTART;TZID=Europe/Amsterdam:20171123T182500
DTEND;TZID=Europe/Amsterdam:20171123T194000
LOCATION:Yoga Langedijk
DESCRIPTION: donderdagavond 18.25u-19.40u
STATUS:CONFIRMED
SEQUENCE:0
END:VEVENT
END:VCALENDAR