BEGIN:VCALENDAR
VERSION:2.0
CALSCALE:GREGORIAN
BEGIN:VEVENT
SUMMARY:Domingo flow con Miguel
DTSTART;TZID=Europe/Madrid:20250601T191500
DTEND;TZID=Europe/Madrid:20250601T203000
LOCATION:Espacio Alegre
DESCRIPTION: Smooth hatha vinyasa integral practice
STATUS:CONFIRMED
SEQUENCE:0
END:VEVENT
END:VCALENDAR