BEGIN:VCALENDAR
VERSION:2.0
CALSCALE:GREGORIAN
BEGIN:VEVENT
SUMMARY:Hatha con Sara
DTSTART;TZID=Europe/Madrid:20250706T191500
DTEND;TZID=Europe/Madrid:20250706T203000
LOCATION:Espacio Alegre
DESCRIPTION: Smooth hatha vinyasa integral practice
STATUS:CONFIRMED
SEQUENCE:0
END:VEVENT
END:VCALENDAR