BEGIN:VCALENDAR
VERSION:2.0
CALSCALE:GREGORIAN
BEGIN:VEVENT
SUMMARY:Open Yoga con Agustina
DTSTART;TZID=Europe/Madrid:20250803T193000
DTEND;TZID=Europe/Madrid:20250803T204500
LOCATION:Espacio Alegre
DESCRIPTION: Smooth hatha vinyasa integral practice
STATUS:CONFIRMED
SEQUENCE:0
END:VEVENT
END:VCALENDAR