BEGIN:VCALENDAR
VERSION:2.0
CALSCALE:GREGORIAN
BEGIN:VEVENT
SUMMARY:Vinyasa con Sol
DTSTART;TZID=Europe/Madrid:20260207T120000
DTEND;TZID=Europe/Madrid:20260207T133000
LOCATION:Espacio Alegre
DESCRIPTION: 
STATUS:CONFIRMED
SEQUENCE:0
END:VEVENT
END:VCALENDAR