BEGIN:VCALENDAR
VERSION:2.0
CALSCALE:GREGORIAN
BEGIN:VEVENT
SUMMARY:Yoga Nidra ochtendsessie
DTSTART;TZID=Europe/Amsterdam:20240920T104500
DTEND;TZID=Europe/Amsterdam:20240920T120000
LOCATION:Yogalicious
DESCRIPTION: De meest ontspannen start van je weekend
STATUS:CONFIRMED
SEQUENCE:0
END:VEVENT
END:VCALENDAR