BEGIN:VCALENDAR
VERSION:2.0
CALSCALE:GREGORIAN
BEGIN:VEVENT
SUMMARY:Yoga Nidra Ochtendsessie
DTSTART;TZID=Europe/Amsterdam:20250117T104500
DTEND;TZID=Europe/Amsterdam:20250117T120000
LOCATION:Yogalicious
DESCRIPTION: 
STATUS:CONFIRMED
SEQUENCE:0
END:VEVENT
END:VCALENDAR