BEGIN:VCALENDAR
VERSION:2.0
CALSCALE:GREGORIAN
BEGIN:VEVENT
SUMMARY:Singing Bowl Workshop by Vicky Lee (not applicable to our package)
DTSTART;TZID=Asia/Hong_Kong:20210613T160000
DTEND;TZID=Asia/Hong_Kong:20210613T170000
LOCATION:Tsim Sha Tsui
DESCRIPTION: Please contact us for details
STATUS:CONFIRMED
SEQUENCE:0
END:VEVENT
END:VCALENDAR