BEGIN:VCALENDAR
VERSION:2.0
CALSCALE:GREGORIAN
BEGIN:VEVENT
SUMMARY:Aerial Tricks Workshop (not applicable to general package)
DTSTART;TZID=Asia/Hong_Kong:20210922T171500
DTEND;TZID=Asia/Hong_Kong:20210922T191500
LOCATION:Tsim Sha Tsui
DESCRIPTION: PM for registration
Date &amp; Time: 22/9  5:15-7:15pm
Price: $430
Early Bird Offer: $410
Member&#039;s offer: $20 off

You will learn 4-5 tricks flow in the class. It is hard to follow teacher&#039;s instruction with lots of classmates flowing in the classroom (and also hard to rmb all the steps!) Our certified Aerial Yoga teacher will give you some tips for flying and how to do trick elegantly!
Yes, We are have high ceiling (3.6m), thus, you won&#039;t bump into the ceiling when doing complicated tricks!
STATUS:CONFIRMED
SEQUENCE:0
END:VEVENT
END:VCALENDAR