BEGIN:VCALENDAR
VERSION:2.0
CALSCALE:GREGORIAN
BEGIN:VEVENT
SUMMARY:Endoyoga - Rennes
DTSTART;TZID=Europe/Paris:20260306T094500
DTEND;TZID=Europe/Paris:20260306T104500
LOCATION:Péniche La Nouvelle Lune  - 4 quai d&#039;Ille et Rance 35000 Rennes
DESCRIPTION: Séances de Yoga thérapie adaptées tout spécialement pour les femmes atteintes d&#039;endométriose, d&#039;adénomyose ou de règles abondantes/douloureuses, afin de les aider à retrouver confort dans leur corps et apaiser leur mental.
Lieu : Péniche La Nouvelle Lune, 4 Quai d&#039;Ille et Rance 35000 Rennes
STATUS:CONFIRMED
SEQUENCE:0
END:VEVENT
END:VCALENDAR