BEGIN:VCALENDAR
VERSION:2.0
CALSCALE:GREGORIAN
BEGIN:VEVENT
SUMMARY:Atelier Yoga Do-In et Yoga Nidra
DTSTART;TZID=Europe/Paris:20250913T100000
DTEND;TZID=Europe/Paris:20250913T130000
LOCATION:Péniche La Nouvelle Lune, 4 Quai d&#039;ille et Rance 35000 Rennes
DESCRIPTION: Atelier de 3h comprenant du yoga doux, une pratique de Do-In (technique japonaise d&#039;auto-massage par acupression) et terminé par un yoga nidra.
STATUS:CONFIRMED
SEQUENCE:0
END:VEVENT
END:VCALENDAR