BEGIN:VCALENDAR
VERSION:2.0
CALSCALE:GREGORIAN
BEGIN:VEVENT
SUMMARY:Atelier Endoyoga et resserrage bassin au Rebozo, avec Katell
DTSTART;TZID=Europe/Paris:20251108T093000
DTEND;TZID=Europe/Paris:20251108T123000
LOCATION:Péniche La Nouvelle Lune, 4 Quai d&#039;ille et Rance 35000 Rennes
DESCRIPTION: Atelier bien-être spécial endometriose, adenomyose, SOPK, fertilité, douleurs de post-partum.
Dans un cocon de douceur sur l&#039;eau, au bord de la Péniche la Nouvelle Lune à Rennes, nous vous invitons à un atelier partagé yoga et soin au rebozo. 
Après un petit temps d&#039;échange et de partage d&#039;expérience, Gaëlle vous présentera des pratiques de yoga adaptées, conçues spécialement pour soulager les douleurs. 
Puis, Katell vous présentera les soins au rebozo (tissu d&#039;origine mexicaine, dédié aux soins féminins) et vous fera bénéficier d&#039;un travail au rebozo sur le bassin pour soulager vos douleurs d&#039;endometriose, adenomyose, SOPK ou post-partum, si vous y êtes prêtes. Il n&#039;y aura aucune obligation, ce travail au niveau du bassin fait également remonter et libère beaucoup d&#039;émotions.
STATUS:CONFIRMED
SEQUENCE:0
END:VEVENT
END:VCALENDAR