BEGIN:VCALENDAR
VERSION:2.0
CALSCALE:GREGORIAN
BEGIN:VEVENT
SUMMARY:Atelier de Yoga doux Spécial Printemps
DTSTART;TZID=Europe/Paris:20260411T104500
DTEND;TZID=Europe/Paris:20260411T121500
LOCATION:Kiné Sports Santé, 3 route de Rennes, 35310 Mordelles
DESCRIPTION: Atelier de yoga doux pour vous reconnecter à votre corps, votre niveau d&#039;énergie. Un temps pour prendre soin de vous, libérer vos tensions et respirer pour accueillir le renouveau du Printemps 🌿 postures douces et accessibles, temps de relaxation final. Prévoyez une petite couverture. 
Accessible à tous et toutes sans pré-requis, quel que soit votre âge ou votre condition physique.
STATUS:CONFIRMED
SEQUENCE:0
END:VEVENT
END:VCALENDAR