BEGIN:VCALENDAR
VERSION:2.0
CALSCALE:GREGORIAN
BEGIN:VEVENT
SUMMARY:Yoga prénatal
DTSTART;TZID=Europe/Paris:20251022T183000
DTEND;TZID=Europe/Paris:20251022T194500
LOCATION:Hélène et Cie
DESCRIPTION: Cours adapté à toute la grossesse (1er, 2ème et 3ème trimestre).
STATUS:CONFIRMED
SEQUENCE:0
END:VEVENT
END:VCALENDAR