BEGIN:VCALENDAR
VERSION:2.0
CALSCALE:GREGORIAN
BEGIN:VEVENT
SUMMARY:Yoga prénatal
DTSTART;TZID=Europe/Paris:20260128T183000
DTEND;TZID=Europe/Paris:20260128T194500
LOCATION:Hélène et Cie (2 RUE DUCASTEL, 78100 ST GERMAIN EN LAYE)
DESCRIPTION: Cours adapté à toute la grossesse (1er, 2ème et 3ème trimestre).
STATUS:CONFIRMED
SEQUENCE:0
END:VEVENT
END:VCALENDAR