BEGIN:VCALENDAR
VERSION:2.0
CALSCALE:GREGORIAN
BEGIN:VEVENT
SUMMARY:BUITEN Yoga &#039;t landje Borculo 9.00, gaat door !!!!
DTSTART;TZID=Europe/Amsterdam:20210609T090000
DTEND;TZID=Europe/Amsterdam:20210609T101500
LOCATION:Landje Borculo, PLatvoetsdijk 18 te Borculo
DESCRIPTION: Heerlijk in de ochtend je lichaam en geest openen voor een nieuwe dag
STATUS:CONFIRMED
SEQUENCE:0
END:VEVENT
END:VCALENDAR