BEGIN:VCALENDAR
VERSION:2.0
CALSCALE:GREGORIAN
BEGIN:VEVENT
SUMMARY:Meditatie en Ontspanning 19.00
DTSTART;TZID=Europe/Amsterdam:20211124T190000
DTEND;TZID=Europe/Amsterdam:20211124T201500
LOCATION:Wijkgebouw de Koppel Borculo
DESCRIPTION: In een tijd waarin bijna iedereen stress ervaart, bied ik de laatste woensdagavond van de maand gelegenheid om te vertragen en in stilte te zijn met dat wat is op dat moment. 
Ruimte maken voor rust in het lichaam en mentale rust in het hoofd. En dat schept ontspanning. 

Welkom 1 strip van je kaart. Neem je dekentje mee.
STATUS:CONFIRMED
SEQUENCE:0
END:VEVENT
END:VCALENDAR