BEGIN:VCALENDAR
VERSION:2.0
CALSCALE:GREGORIAN
BEGIN:VEVENT
SUMMARY:Ochtendyoga op vrijdag 9.00
DTSTART;TZID=Europe/Amsterdam:20211210T090000
DTEND;TZID=Europe/Amsterdam:20211210T101500
LOCATION:Borculo
DESCRIPTION: Heerlijke les aan het begin van je dag, voor het weekend.  Welkom!
STATUS:CONFIRMED
SEQUENCE:0
END:VEVENT
END:VCALENDAR