BEGIN:VCALENDAR
VERSION:2.0
CALSCALE:GREGORIAN
BEGIN:VEVENT
SUMMARY:OUTDOOR YOGA nog 2 plekjes vrij 10.00 Landje Borculo
DTSTART;TZID=Europe/Amsterdam:20210326T100000
DTEND;TZID=Europe/Amsterdam:20210326T111500
LOCATION:Borculo landje van Borculo, Platvoetsdijk 18
DESCRIPTION: Heerlijke buiten yoga. In beweging komen. 
Voel je fit, krachtig en energiek na afloop.
Doe je mee? 
Neem je mat en een handdoek mee en trek laagjes kleding aan.
STATUS:CONFIRMED
SEQUENCE:0
END:VEVENT
END:VCALENDAR