BEGIN:VCALENDAR
VERSION:2.0
CALSCALE:GREGORIAN
BEGIN:VEVENT
SUMMARY:SØFT
DTSTART;TZID=Europe/Paris:20191002T180000
DTEND;TZID=Europe/Paris:20191002T191500
LOCATION:Yogamatik
DESCRIPTION: Une pratique douce qui permet de délier le corps et de libérer les tensions, accessible à tous quelque soit l’âge et la forme physique. Le cours est basé sur une succession de postures statiques en lien avec le souffle et développe la mobilité et l’assouplissement. Il se termine par un temps respiration et de relaxation.
STATUS:CONFIRMED
SEQUENCE:0
END:VEVENT
END:VCALENDAR