BEGIN:VCALENDAR
VERSION:2.0
CALSCALE:GREGORIAN
BEGIN:VEVENT
SUMMARY:BÅLANCE
DTSTART;TZID=Europe/Paris:20190924T180000
DTEND;TZID=Europe/Paris:20190924T191500
LOCATION:Yogamatik
DESCRIPTION: Une pratique complète qui associe yoga dynamique et Yin Yoga. Le cours commence par une pratique dynamique qui vise à renforcer le corps et se poursuit par des postures statiques permettant de relâcher les tensions, d’étirer les muscles et d’agir sur les tissus profonds. Il se termine par un temps de relaxation.
STATUS:CONFIRMED
SEQUENCE:0
END:VEVENT
END:VCALENDAR