BEGIN:VCALENDAR
VERSION:2.0
CALSCALE:GREGORIAN
BEGIN:VEVENT
SUMMARY:CAY
DTSTART;TZID=Europe/Amsterdam:20260324T090000
DTEND;TZID=Europe/Amsterdam:20260324T100000
LOCATION:Hortsedijk 81
DESCRIPTION: In mijn yogalessen werken we met Critical Alignment Yoga:
een yogamethode waarbij je eerst onderzoekt waar je spanning vasthoudt, en vervolgens leert die los te laten. Niet via kracht, maar via adem, aandacht en bewuste beweging. Zo ontstaat er ruimte voor ontspanning, helderheid en verbinding – met jezelf en de wereld om je heen.
STATUS:CONFIRMED
SEQUENCE:0
END:VEVENT
END:VCALENDAR