BEGIN:VCALENDAR
VERSION:2.0
CALSCALE:GREGORIAN
BEGIN:VEVENT
SUMMARY:Hatha light / Yoga voor ouderen door Monique
DTSTART;TZID=Europe/Amsterdam:20200505T110000
DTEND;TZID=Europe/Amsterdam:20200505T120000
LOCATION:Adriaan de Jongstraat 38
DESCRIPTION: Rustige yoga voor ouderen. Deze yoga is eventueel ook op een stoel te volgen.
STATUS:CONFIRMED
SEQUENCE:0
END:VEVENT
END:VCALENDAR