BEGIN:VCALENDAR
VERSION:2.0
CALSCALE:GREGORIAN
BEGIN:VEVENT
SUMMARY:Meditative Unwind and Stretch (pop-up)
DTSTART;TZID=America/New_York:20240623T100000
DTEND;TZID=America/New_York:20240623T110000
LOCATION:Yoga Mill
DESCRIPTION: Join Suzanne for a gentle yoga flow and unwinding. Get ready for your week and reset in this class. Open to all levels, perfect for beginners.
STATUS:CONFIRMED
SEQUENCE:0
END:VEVENT
END:VCALENDAR