BEGIN:VCALENDAR
VERSION:2.0
CALSCALE:GREGORIAN
BEGIN:VEVENT
SUMMARY:Harry Potter Yoga (pop-up)
DTSTART;TZID=America/New_York:20241025T180000
DTEND;TZID=America/New_York:20241025T190000
LOCATION:Yoga Mill
DESCRIPTION: Bring your teen or tween with you to this Harry Potter themed yoga class, perfect for October! A hatha slow flow style class, perfect for warming up and stretching out! Feel free to dress as your favorite character! Perfect for beginners, suitable for all levels.
STATUS:CONFIRMED
SEQUENCE:0
END:VEVENT
END:VCALENDAR