BEGIN:VCALENDAR
VERSION:2.0
CALSCALE:GREGORIAN
BEGIN:VEVENT
SUMMARY:Get Twisted! Replay (Pop-up class)
DTSTART;TZID=America/New_York:20240915T140000
DTEND;TZID=America/New_York:20240915T150000
LOCATION:Yoga Mill
DESCRIPTION: Relax and unwind in this class all about the twist! Flex your spine and encourage good digestive health as we moved through this slow flow and yin class focused on twisting the body. Perfect for beginners, suitable for all levels.
STATUS:CONFIRMED
SEQUENCE:0
END:VEVENT
END:VCALENDAR