BEGIN:VCALENDAR
VERSION:2.0
CALSCALE:GREGORIAN
BEGIN:VEVENT
SUMMARY:Rock Your Asana
DTSTART;TZID=America/New_York:20241016T103000
DTEND;TZID=America/New_York:20241016T113000
LOCATION:Yoga Mill
DESCRIPTION: “Asana” means “Pose” 
This is a dynamic yoga class set to a fun upbeat playlist of mainstream music. Build strength and flexibility in this challenging vinyasa style class offering a variety of poses accessible to all levels.
STATUS:CONFIRMED
SEQUENCE:0
END:VEVENT
END:VCALENDAR