BEGIN:VCALENDAR
VERSION:2.0
CALSCALE:GREGORIAN
BEGIN:VEVENT
SUMMARY:Open House! All Levels Flow
DTSTART;TZID=America/New_York:20241110T100000
DTEND;TZID=America/New_York:20241110T104500
LOCATION:Yoga Mill
DESCRIPTION: This class is free, sign up early for a chance to win!
STATUS:CONFIRMED
SEQUENCE:0
END:VEVENT
END:VCALENDAR