BEGIN:VCALENDAR
VERSION:2.0
CALSCALE:GREGORIAN
BEGIN:VEVENT
SUMMARY:Open House! Empower Flow
DTSTART;TZID=America/New_York:20241110T110000
DTEND;TZID=America/New_York:20241110T114500
LOCATION:Yoga Mill
DESCRIPTION: This class is free, sign up early for a chance to win!This is a dynamic yoga class set to a fun upbeat playlist of mainstream music. Build strength and flexibility in this challenging vinyasa style (linking breath with movement) class offering a variety of poses accessible to all levels.
STATUS:CONFIRMED
SEQUENCE:0
END:VEVENT
END:VCALENDAR