BEGIN:VCALENDAR
VERSION:2.0
CALSCALE:GREGORIAN
BEGIN:VEVENT
SUMMARY:Yin Yoga
DTSTART;TZID=Europe/Berlin:20260113T200000
DTEND;TZID=Europe/Berlin:20260113T210000
LOCATION:Mittelstr. 57, 45699 Herten
DESCRIPTION: Yin Yoga ist eine ruhige und passive Yogapraxis. Es geht darum den Körper zu erspüren und zu erkunden. Die Übungen werden ohne muskuläre Anspannung durchgeführt und 3 bis 5 Minuten gehalten.
STATUS:CONFIRMED
SEQUENCE:0
END:VEVENT
END:VCALENDAR