BEGIN:VCALENDAR
VERSION:2.0
CALSCALE:GREGORIAN
BEGIN:VEVENT
SUMMARY:Yoga für Schwangere
DTSTART;TZID=Europe/Berlin:20220530T193000
DTEND;TZID=Europe/Berlin:20220530T210000
LOCATION:YogaMomente, Ritterstraße 2-4, 21614 Buxtehude
DESCRIPTION: 
STATUS:CONFIRMED
SEQUENCE:0
END:VEVENT
END:VCALENDAR