BEGIN:VCALENDAR
VERSION:2.0
CALSCALE:GREGORIAN
BEGIN:VEVENT
SUMMARY:Yin Yoga
DTSTART;TZID=Europe/Amsterdam:20190123T203000
DTEND;TZID=Europe/Amsterdam:20190123T214500
LOCATION:De Driehoek - Zierikzee
DESCRIPTION: Een rustige les waarbij je helemaal op jezelf gefocust bent en langere tijd in een houding blijft. Yin Yoga biedt verlichting bij uiteenlopende rug-, nek- en schouderklachten en bevordert de fysieke en mentale balans. Daarnaast draagt Yin Yoga bij aan het soepel maken van het bindweefsel en het verlengen van de spieren.

Deze les wordt gegeven door Monique Hondelink: T 06-34104179
STATUS:CONFIRMED
SEQUENCE:0
END:VEVENT
END:VCALENDAR