BEGIN:VCALENDAR
VERSION:2.0
CALSCALE:GREGORIAN
BEGIN:VEVENT
SUMMARY:Integrale Yoga
DTSTART;TZID=Europe/Amsterdam:20190417T203000
DTEND;TZID=Europe/Amsterdam:20190417T214500
LOCATION:De Driehoek - Zierikzee
DESCRIPTION: Een rustige vorm van yoga waarin alle elementen van de traditionele yoga terugkomen. Deze les bestaat uit diverse lichaamshoudingen, ademoefeningen, concentratie- en ontspanningsoefeningen en meditatie. In de integrale yoga ligt de nadruk op ontspanning.
STATUS:CONFIRMED
SEQUENCE:0
END:VEVENT
END:VCALENDAR