BEGIN:VCALENDAR
VERSION:2.0
CALSCALE:GREGORIAN
BEGIN:VEVENT
SUMMARY:Yoga voor kids
DTSTART;TZID=Europe/Amsterdam:20190717T160000
DTEND;TZID=Europe/Amsterdam:20190717T170000
LOCATION:Beachclub Perry&#039;s, Brouwersdam
DESCRIPTION: Yoga in de buitenlucht, met je voeten in &#039;t zand en uitzicht op zee... Leuker wordt het niet! Een te gekke strandyogales, speciaal voor onze jongere yogi&#039;s (4 t/m 12 jaar).
STATUS:CONFIRMED
SEQUENCE:0
END:VEVENT
END:VCALENDAR