BEGIN:VCALENDAR
VERSION:2.0
CALSCALE:GREGORIAN
BEGIN:VEVENT
SUMMARY:Meivakantie 🌺 29 apr - 5 mei
DTSTART;TZID=Europe/Amsterdam:20250505T080000
DTEND;TZID=Europe/Amsterdam:20250505T090000
LOCATION:Studio Het Hof, Het Hof 9
DESCRIPTION: 
STATUS:CONFIRMED
SEQUENCE:0
END:VEVENT
END:VCALENDAR